BEGIN:VCALENDAR
VERSION:2.0
PRODID:-//Sabre//Sabre VObject 4.5.8//EN
CALSCALE:GREGORIAN
BEGIN:VEVENT
UID:sabre-vobject-aead3094-1791-4eae-bebd-7285a659191b
DTSTAMP:20260422T013740Z
SUMMARY:Common Military Training - Permanent Change of Station
DESCRIPTION:
X-ALT-DESC:FMTTYPE=text/html:<!DOCTYPE HTML PUBLIC "-//W3C//DTD HTML 3.2//E
 N"><HTML></HTML>
CREATED;TZID=America/New_York:20260203T120614
URL;VALUE=URI:https://lee.armymwr.com/calendar/event
DTSTART;TZID=America/New_York:20260617T090000
DTEND;TZID=America/New_York:20260617T103000
SEQUENCE:0
END:VEVENT
END:VCALENDAR
