BEGIN:VCALENDAR
VERSION:2.0
PRODID:-//Sabre//Sabre VObject 4.5.8//EN
CALSCALE:GREGORIAN
BEGIN:VEVENT
UID:sabre-vobject-293b1f8d-14ad-4253-bd53-a67be0907748
DTSTAMP:20260421T155638Z
SUMMARY:Cornhole Tournaments
DESCRIPTION:
X-ALT-DESC:FMTTYPE=text/html:<!DOCTYPE HTML PUBLIC "-//W3C//DTD HTML 3.2//E
 N"><HTML></HTML>
CREATED;TZID=America/New_York:20260408T142300
URL;VALUE=URI:https://lee.armymwr.com/calendar/event
DTSTART;TZID=America/New_York:20260529T180000
DTEND;TZID=America/New_York:20260529T190000
SEQUENCE:0
END:VEVENT
END:VCALENDAR
