BEGIN:VCALENDAR
VERSION:2.0
PRODID:-//Sabre//Sabre VObject 4.5.8//EN
CALSCALE:GREGORIAN
BEGIN:VEVENT
UID:sabre-vobject-51395365-d24f-455a-9223-3157c4a68b6e
DTSTAMP:20260421T060348Z
SUMMARY:Hot Dog Fun Run
DESCRIPTION:
X-ALT-DESC:FMTTYPE=text/html:<!DOCTYPE HTML PUBLIC "-//W3C//DTD HTML 3.2//E
 N"><HTML></HTML>
CREATED;TZID=America/New_York:20260420T094826
URL;VALUE=URI:https://lee.armymwr.com/calendar/event
DTSTART;TZID=America/New_York:20260516T080000
DTEND;TZID=America/New_York:20260516T120000
SEQUENCE:0
END:VEVENT
END:VCALENDAR
