BEGIN:VCALENDAR
VERSION:2.0
PRODID:-//Sabre//Sabre VObject 4.5.8//EN
CALSCALE:GREGORIAN
BEGIN:VEVENT
UID:sabre-vobject-f92f6f05-1896-4606-ac28-6dbc9e05b0ee
DTSTAMP:20260422T013427Z
SUMMARY:Picnic & Obstacle Course
DESCRIPTION:A family fitness and reading event\n
X-ALT-DESC:FMTTYPE=text/html:<!DOCTYPE HTML PUBLIC "-//W3C//DTD HTML 3.2//E
 N"><HTML><p>A family fitness and reading event</p>\n</HTML>
CREATED;TZID=America/New_York:20260421T132440
URL;VALUE=URI:https://lee.armymwr.com/calendar/event
DTSTART;TZID=America/New_York:20260513T100000
DTEND;TZID=America/New_York:20260513T120000
SEQUENCE:0
END:VEVENT
END:VCALENDAR
