BEGIN:VCALENDAR
VERSION:2.0
PRODID:-//Sabre//Sabre VObject 4.5.8//EN
CALSCALE:GREGORIAN
BEGIN:VEVENT
UID:sabre-vobject-bf88a0c7-4130-43f2-8a67-d33e781f0983
DTSTAMP:20260425T003501Z
SUMMARY:Derby Watch Party: CANCELLED
DESCRIPTION:
X-ALT-DESC:FMTTYPE=text/html:<!DOCTYPE HTML PUBLIC "-//W3C//DTD HTML 3.2//E
 N"><HTML></HTML>
CREATED;TZID=America/New_York:20260424T143138
URL;VALUE=URI:https://lee.armymwr.com/calendar/event
DTSTART;TZID=America/New_York:20260424T140000
DTEND;TZID=America/New_York:20260424T150000
SEQUENCE:0
END:VEVENT
END:VCALENDAR
