BEGIN:VCALENDAR
VERSION:2.0
PRODID:-//Sabre//Sabre VObject 4.5.8//EN
CALSCALE:GREGORIAN
BEGIN:VEVENT
UID:sabre-vobject-e670b941-e5bc-4d74-a628-7c0889c37314
DTSTAMP:20260420T074630Z
SUMMARY:Lunch and Learn
DESCRIPTION:
X-ALT-DESC:FMTTYPE=text/html:<!DOCTYPE HTML PUBLIC "-//W3C//DTD HTML 3.2//E
 N"><HTML></HTML>
CREATED;TZID=America/New_York:20171122T113228
URL;VALUE=URI:https://lee.armymwr.com/calendar/event
DTSTART;TZID=America/New_York:20170907T113000
DTEND;TZID=America/New_York:20170907T124500
SEQUENCE:0
END:VEVENT
BEGIN:VEVENT
UID:sabre-vobject-334d6fc1-8b87-44e0-bab5-51b04675e5aa
DTSTAMP:20260420T074630Z
SUMMARY:Lunch and Learn
DESCRIPTION:
X-ALT-DESC:FMTTYPE=text/html:<!DOCTYPE HTML PUBLIC "-//W3C//DTD HTML 3.2//E
 N"><HTML></HTML>
CREATED;TZID=America/New_York:20171122T113228
URL;VALUE=URI:https://lee.armymwr.com/calendar/event
DTSTART;TZID=America/New_York:20171005T113000
DTEND;TZID=America/New_York:20171005T124500
SEQUENCE:1
END:VEVENT
BEGIN:VEVENT
UID:sabre-vobject-6d0f309a-a38f-4dee-8e7f-bfe13426cc4e
DTSTAMP:20260420T074630Z
SUMMARY:Lunch and Learn
DESCRIPTION:
X-ALT-DESC:FMTTYPE=text/html:<!DOCTYPE HTML PUBLIC "-//W3C//DTD HTML 3.2//E
 N"><HTML></HTML>
CREATED;TZID=America/New_York:20171122T113228
URL;VALUE=URI:https://lee.armymwr.com/calendar/event
DTSTART;TZID=America/New_York:20171102T113000
DTEND;TZID=America/New_York:20171102T124500
SEQUENCE:2
END:VEVENT
BEGIN:VEVENT
UID:sabre-vobject-0e22f6e1-dd67-4365-944f-5030e805ffb1
DTSTAMP:20260420T074630Z
SUMMARY:Lunch and Learn
DESCRIPTION:
X-ALT-DESC:FMTTYPE=text/html:<!DOCTYPE HTML PUBLIC "-//W3C//DTD HTML 3.2//E
 N"><HTML></HTML>
CREATED;TZID=America/New_York:20171122T113228
URL;VALUE=URI:https://lee.armymwr.com/calendar/event
DTSTART;TZID=America/New_York:20171207T113000
DTEND;TZID=America/New_York:20171207T124500
SEQUENCE:3
END:VEVENT
BEGIN:VEVENT
UID:sabre-vobject-42aa91a5-1a18-4ce7-9463-307da5172103
DTSTAMP:20260420T074630Z
SUMMARY:Lunch and Learn
DESCRIPTION:
X-ALT-DESC:FMTTYPE=text/html:<!DOCTYPE HTML PUBLIC "-//W3C//DTD HTML 3.2//E
 N"><HTML></HTML>
CREATED;TZID=America/New_York:20171122T113228
URL;VALUE=URI:https://lee.armymwr.com/calendar/event
DTSTART;TZID=America/New_York:20180111T120000
DTEND;TZID=America/New_York:20180111T130000
SEQUENCE:4
END:VEVENT
BEGIN:VEVENT
UID:sabre-vobject-20fceaf8-30f4-4f6b-ae40-5e1be10eaf37
DTSTAMP:20260420T074630Z
SUMMARY:Lunch and Learn
DESCRIPTION:
X-ALT-DESC:FMTTYPE=text/html:<!DOCTYPE HTML PUBLIC "-//W3C//DTD HTML 3.2//E
 N"><HTML></HTML>
CREATED;TZID=America/New_York:20171122T113228
URL;VALUE=URI:https://lee.armymwr.com/calendar/event
DTSTART;TZID=America/New_York:20180201T120000
DTEND;TZID=America/New_York:20180201T130000
SEQUENCE:5
END:VEVENT
BEGIN:VEVENT
UID:sabre-vobject-180d34c1-93b8-46d6-beb8-e91be0adc555
DTSTAMP:20260420T074630Z
SUMMARY:Lunch and Learn
DESCRIPTION:
X-ALT-DESC:FMTTYPE=text/html:<!DOCTYPE HTML PUBLIC "-//W3C//DTD HTML 3.2//E
 N"><HTML></HTML>
CREATED;TZID=America/New_York:20171122T113228
URL;VALUE=URI:https://lee.armymwr.com/calendar/event
DTSTART;TZID=America/New_York:20180301T120000
DTEND;TZID=America/New_York:20180301T130000
SEQUENCE:6
END:VEVENT
BEGIN:VEVENT
UID:sabre-vobject-3ae2d346-de9c-4c3b-9109-a4c70d3fbd2c
DTSTAMP:20260420T074630Z
SUMMARY:Lunch and Learn
DESCRIPTION:
X-ALT-DESC:FMTTYPE=text/html:<!DOCTYPE HTML PUBLIC "-//W3C//DTD HTML 3.2//E
 N"><HTML></HTML>
CREATED;TZID=America/New_York:20171122T113228
URL;VALUE=URI:https://lee.armymwr.com/calendar/event
DTSTART;TZID=America/New_York:20180405T120000
DTEND;TZID=America/New_York:20180405T130000
SEQUENCE:7
END:VEVENT
BEGIN:VEVENT
UID:sabre-vobject-864cf116-9d08-4530-a4eb-4e0b032abab5
DTSTAMP:20260420T074630Z
SUMMARY:Lunch and Learn
DESCRIPTION:
X-ALT-DESC:FMTTYPE=text/html:<!DOCTYPE HTML PUBLIC "-//W3C//DTD HTML 3.2//E
 N"><HTML></HTML>
CREATED;TZID=America/New_York:20171122T113228
URL;VALUE=URI:https://lee.armymwr.com/calendar/event
DTSTART;TZID=America/New_York:20180503T120000
DTEND;TZID=America/New_York:20180503T130000
SEQUENCE:8
END:VEVENT
BEGIN:VEVENT
UID:sabre-vobject-fc3561e2-c7c8-4dac-a541-3244e3ab960a
DTSTAMP:20260420T074630Z
SUMMARY:Lunch and Learn
DESCRIPTION:
X-ALT-DESC:FMTTYPE=text/html:<!DOCTYPE HTML PUBLIC "-//W3C//DTD HTML 3.2//E
 N"><HTML></HTML>
CREATED;TZID=America/New_York:20171122T113228
URL;VALUE=URI:https://lee.armymwr.com/calendar/event
DTSTART;TZID=America/New_York:20180607T120000
DTEND;TZID=America/New_York:20180607T130000
SEQUENCE:9
END:VEVENT
BEGIN:VEVENT
UID:sabre-vobject-9109fce5-3b82-47f3-9f76-d4eba0333dbd
DTSTAMP:20260420T074630Z
SUMMARY:Lunch and Learn
DESCRIPTION:
X-ALT-DESC:FMTTYPE=text/html:<!DOCTYPE HTML PUBLIC "-//W3C//DTD HTML 3.2//E
 N"><HTML></HTML>
CREATED;TZID=America/New_York:20171122T113228
URL;VALUE=URI:https://lee.armymwr.com/calendar/event
DTSTART;TZID=America/New_York:20180712T120000
DTEND;TZID=America/New_York:20180712T130000
SEQUENCE:10
END:VEVENT
BEGIN:VEVENT
UID:sabre-vobject-74b192be-d241-4554-82bd-eb9ed66c12fb
DTSTAMP:20260420T074630Z
SUMMARY:Lunch and Learn
DESCRIPTION:
X-ALT-DESC:FMTTYPE=text/html:<!DOCTYPE HTML PUBLIC "-//W3C//DTD HTML 3.2//E
 N"><HTML></HTML>
CREATED;TZID=America/New_York:20171122T113228
URL;VALUE=URI:https://lee.armymwr.com/calendar/event
DTSTART;TZID=America/New_York:20180802T120000
DTEND;TZID=America/New_York:20180802T130000
SEQUENCE:11
END:VEVENT
BEGIN:VEVENT
UID:sabre-vobject-452be833-5ddd-47b5-8bb3-210262046638
DTSTAMP:20260420T074630Z
SUMMARY:Lunch and Learn
DESCRIPTION:
X-ALT-DESC:FMTTYPE=text/html:<!DOCTYPE HTML PUBLIC "-//W3C//DTD HTML 3.2//E
 N"><HTML></HTML>
CREATED;TZID=America/New_York:20171122T113228
URL;VALUE=URI:https://lee.armymwr.com/calendar/event
DTSTART;TZID=America/New_York:20180906T120000
DTEND;TZID=America/New_York:20180906T130000
SEQUENCE:12
END:VEVENT
BEGIN:VEVENT
UID:sabre-vobject-0249b9fb-6eb0-4e27-8260-ac9f478cbb10
DTSTAMP:20260420T074630Z
SUMMARY:Lunch and Learn
DESCRIPTION:
X-ALT-DESC:FMTTYPE=text/html:<!DOCTYPE HTML PUBLIC "-//W3C//DTD HTML 3.2//E
 N"><HTML></HTML>
CREATED;TZID=America/New_York:20171122T113228
URL;VALUE=URI:https://lee.armymwr.com/calendar/event
DTSTART;TZID=America/New_York:20181101T120000
DTEND;TZID=America/New_York:20181101T130000
SEQUENCE:13
END:VEVENT
BEGIN:VEVENT
UID:sabre-vobject-b6ca6db4-edb1-4a6a-86b4-0c509b379ced
DTSTAMP:20260420T074630Z
SUMMARY:Lunch and Learn
DESCRIPTION:
X-ALT-DESC:FMTTYPE=text/html:<!DOCTYPE HTML PUBLIC "-//W3C//DTD HTML 3.2//E
 N"><HTML></HTML>
CREATED;TZID=America/New_York:20171122T113228
URL;VALUE=URI:https://lee.armymwr.com/calendar/event
DTSTART;TZID=America/New_York:20181206T120000
DTEND;TZID=America/New_York:20181206T130000
SEQUENCE:14
END:VEVENT
END:VCALENDAR
