BEGIN:VCALENDAR
VERSION:2.0
PRODID:-//Sabre//Sabre VObject 4.5.8//EN
CALSCALE:GREGORIAN
BEGIN:VEVENT
UID:sabre-vobject-5c08bb9a-b477-4d8d-9230-a9d314e4e46c
DTSTAMP:20260420T074635Z
SUMMARY:What to Expect Now That You're Expecting
DESCRIPTION:
X-ALT-DESC:FMTTYPE=text/html:<!DOCTYPE HTML PUBLIC "-//W3C//DTD HTML 3.2//E
 N"><HTML></HTML>
CREATED;TZID=America/New_York:20171122T113616
URL;VALUE=URI:https://lee.armymwr.com/calendar/event
DTSTART;TZID=America/New_York:20170906T130000
DTEND;TZID=America/New_York:20170906T140000
SEQUENCE:0
END:VEVENT
BEGIN:VEVENT
UID:sabre-vobject-ed50cb23-9eec-4baf-8122-15e7df65729a
DTSTAMP:20260420T074635Z
SUMMARY:What to Expect Now That You're Expecting
DESCRIPTION:
X-ALT-DESC:FMTTYPE=text/html:<!DOCTYPE HTML PUBLIC "-//W3C//DTD HTML 3.2//E
 N"><HTML></HTML>
CREATED;TZID=America/New_York:20171122T113616
URL;VALUE=URI:https://lee.armymwr.com/calendar/event
DTSTART;TZID=America/New_York:20171004T130000
DTEND;TZID=America/New_York:20171004T140000
SEQUENCE:1
END:VEVENT
BEGIN:VEVENT
UID:sabre-vobject-41847e08-46ef-4bb1-aa38-04ee4e63a8e4
DTSTAMP:20260420T074635Z
SUMMARY:What to Expect Now That You're Expecting
DESCRIPTION:
X-ALT-DESC:FMTTYPE=text/html:<!DOCTYPE HTML PUBLIC "-//W3C//DTD HTML 3.2//E
 N"><HTML></HTML>
CREATED;TZID=America/New_York:20171122T113616
URL;VALUE=URI:https://lee.armymwr.com/calendar/event
DTSTART;TZID=America/New_York:20171101T130000
DTEND;TZID=America/New_York:20171101T140000
SEQUENCE:2
END:VEVENT
BEGIN:VEVENT
UID:sabre-vobject-5eca3e54-f391-4c3e-8ffc-b09dd2d90e4e
DTSTAMP:20260420T074635Z
SUMMARY:What to Expect Now That You're Expecting
DESCRIPTION:
X-ALT-DESC:FMTTYPE=text/html:<!DOCTYPE HTML PUBLIC "-//W3C//DTD HTML 3.2//E
 N"><HTML></HTML>
CREATED;TZID=America/New_York:20171122T113616
URL;VALUE=URI:https://lee.armymwr.com/calendar/event
DTSTART;TZID=America/New_York:20171206T130000
DTEND;TZID=America/New_York:20171206T140000
SEQUENCE:3
END:VEVENT
BEGIN:VEVENT
UID:sabre-vobject-c9cb4156-6b75-4c43-b1ee-8f72b98259f5
DTSTAMP:20260420T074635Z
SUMMARY:What to Expect Now That You're Expecting
DESCRIPTION:
X-ALT-DESC:FMTTYPE=text/html:<!DOCTYPE HTML PUBLIC "-//W3C//DTD HTML 3.2//E
 N"><HTML></HTML>
CREATED;TZID=America/New_York:20171122T113616
URL;VALUE=URI:https://lee.armymwr.com/calendar/event
DTSTART;TZID=America/New_York:20180103T130000
DTEND;TZID=America/New_York:20180103T140000
SEQUENCE:4
END:VEVENT
BEGIN:VEVENT
UID:sabre-vobject-e0cd3939-3c9a-4394-884e-6e34200590ef
DTSTAMP:20260420T074635Z
SUMMARY:What to Expect Now That You're Expecting
DESCRIPTION:
X-ALT-DESC:FMTTYPE=text/html:<!DOCTYPE HTML PUBLIC "-//W3C//DTD HTML 3.2//E
 N"><HTML></HTML>
CREATED;TZID=America/New_York:20171122T113616
URL;VALUE=URI:https://lee.armymwr.com/calendar/event
DTSTART;TZID=America/New_York:20180207T130000
DTEND;TZID=America/New_York:20180207T140000
SEQUENCE:5
END:VEVENT
BEGIN:VEVENT
UID:sabre-vobject-5a0889c0-e8d3-4410-b526-e7c36467978a
DTSTAMP:20260420T074635Z
SUMMARY:What to Expect Now That You're Expecting
DESCRIPTION:
X-ALT-DESC:FMTTYPE=text/html:<!DOCTYPE HTML PUBLIC "-//W3C//DTD HTML 3.2//E
 N"><HTML></HTML>
CREATED;TZID=America/New_York:20171122T113616
URL;VALUE=URI:https://lee.armymwr.com/calendar/event
DTSTART;TZID=America/New_York:20180307T130000
DTEND;TZID=America/New_York:20180307T140000
SEQUENCE:6
END:VEVENT
BEGIN:VEVENT
UID:sabre-vobject-ed90f41d-1182-4fc5-bf04-08b90761edd2
DTSTAMP:20260420T074635Z
SUMMARY:What to Expect Now That You're Expecting
DESCRIPTION:
X-ALT-DESC:FMTTYPE=text/html:<!DOCTYPE HTML PUBLIC "-//W3C//DTD HTML 3.2//E
 N"><HTML></HTML>
CREATED;TZID=America/New_York:20171122T113616
URL;VALUE=URI:https://lee.armymwr.com/calendar/event
DTSTART;TZID=America/New_York:20180404T130000
DTEND;TZID=America/New_York:20180404T140000
SEQUENCE:7
END:VEVENT
BEGIN:VEVENT
UID:sabre-vobject-2d99148b-cba7-458b-a585-d72dca7adc45
DTSTAMP:20260420T074635Z
SUMMARY:What to Expect Now That You're Expecting
DESCRIPTION:
X-ALT-DESC:FMTTYPE=text/html:<!DOCTYPE HTML PUBLIC "-//W3C//DTD HTML 3.2//E
 N"><HTML></HTML>
CREATED;TZID=America/New_York:20171122T113616
URL;VALUE=URI:https://lee.armymwr.com/calendar/event
DTSTART;TZID=America/New_York:20180502T130000
DTEND;TZID=America/New_York:20180502T140000
SEQUENCE:8
END:VEVENT
BEGIN:VEVENT
UID:sabre-vobject-3fb40700-034d-4e63-9621-05e61b700a85
DTSTAMP:20260420T074635Z
SUMMARY:What to Expect Now That You're Expecting
DESCRIPTION:
X-ALT-DESC:FMTTYPE=text/html:<!DOCTYPE HTML PUBLIC "-//W3C//DTD HTML 3.2//E
 N"><HTML></HTML>
CREATED;TZID=America/New_York:20171122T113616
URL;VALUE=URI:https://lee.armymwr.com/calendar/event
DTSTART;TZID=America/New_York:20180905T130000
DTEND;TZID=America/New_York:20180905T140000
SEQUENCE:9
END:VEVENT
BEGIN:VEVENT
UID:sabre-vobject-567785db-9d57-4a46-b25b-1f72068d03e9
DTSTAMP:20260420T074635Z
SUMMARY:What to Expect Now That You're Expecting
DESCRIPTION:
X-ALT-DESC:FMTTYPE=text/html:<!DOCTYPE HTML PUBLIC "-//W3C//DTD HTML 3.2//E
 N"><HTML></HTML>
CREATED;TZID=America/New_York:20171122T113616
URL;VALUE=URI:https://lee.armymwr.com/calendar/event
DTSTART;TZID=America/New_York:20181003T130000
DTEND;TZID=America/New_York:20181003T140000
SEQUENCE:10
END:VEVENT
BEGIN:VEVENT
UID:sabre-vobject-9f602e6f-a214-4853-a8df-57d1edbb98f8
DTSTAMP:20260420T074635Z
SUMMARY:What to Expect Now That You're Expecting
DESCRIPTION:
X-ALT-DESC:FMTTYPE=text/html:<!DOCTYPE HTML PUBLIC "-//W3C//DTD HTML 3.2//E
 N"><HTML></HTML>
CREATED;TZID=America/New_York:20171122T113616
URL;VALUE=URI:https://lee.armymwr.com/calendar/event
DTSTART;TZID=America/New_York:20181107T130000
DTEND;TZID=America/New_York:20181107T140000
SEQUENCE:11
END:VEVENT
BEGIN:VEVENT
UID:sabre-vobject-64149155-0e36-4fbd-aada-f29534ae882b
DTSTAMP:20260420T074635Z
SUMMARY:What to Expect Now That You're Expecting
DESCRIPTION:
X-ALT-DESC:FMTTYPE=text/html:<!DOCTYPE HTML PUBLIC "-//W3C//DTD HTML 3.2//E
 N"><HTML></HTML>
CREATED;TZID=America/New_York:20171122T113616
URL;VALUE=URI:https://lee.armymwr.com/calendar/event
DTSTART;TZID=America/New_York:20181205T130000
DTEND;TZID=America/New_York:20181205T140000
SEQUENCE:12
END:VEVENT
END:VCALENDAR
