BEGIN:VCALENDAR
VERSION:2.0
PRODID:-//Sabre//Sabre VObject 4.5.8//EN
CALSCALE:GREGORIAN
BEGIN:VEVENT
UID:sabre-vobject-57b9a694-58ec-43ee-a057-80a2a1a4769d
DTSTAMP:20260420T074632Z
SUMMARY:Baby Basics
DESCRIPTION:
X-ALT-DESC:FMTTYPE=text/html:<!DOCTYPE HTML PUBLIC "-//W3C//DTD HTML 3.2//E
 N"><HTML></HTML>
CREATED;TZID=America/New_York:20171122T114027
URL;VALUE=URI:https://lee.armymwr.com/calendar/event
DTSTART;TZID=America/New_York:20170913T130000
DTEND;TZID=America/New_York:20170913T140000
SEQUENCE:0
END:VEVENT
BEGIN:VEVENT
UID:sabre-vobject-2d23fa47-1261-459f-a3d5-d5acd1282593
DTSTAMP:20260420T074632Z
SUMMARY:Baby Basics
DESCRIPTION:
X-ALT-DESC:FMTTYPE=text/html:<!DOCTYPE HTML PUBLIC "-//W3C//DTD HTML 3.2//E
 N"><HTML></HTML>
CREATED;TZID=America/New_York:20171122T114027
URL;VALUE=URI:https://lee.armymwr.com/calendar/event
DTSTART;TZID=America/New_York:20171011T130000
DTEND;TZID=America/New_York:20171011T140000
SEQUENCE:1
END:VEVENT
BEGIN:VEVENT
UID:sabre-vobject-caceef05-b6a4-43eb-b818-70ae8e262f9a
DTSTAMP:20260420T074632Z
SUMMARY:Baby Basics
DESCRIPTION:
X-ALT-DESC:FMTTYPE=text/html:<!DOCTYPE HTML PUBLIC "-//W3C//DTD HTML 3.2//E
 N"><HTML></HTML>
CREATED;TZID=America/New_York:20171122T114027
URL;VALUE=URI:https://lee.armymwr.com/calendar/event
DTSTART;TZID=America/New_York:20171108T130000
DTEND;TZID=America/New_York:20171108T140000
SEQUENCE:2
END:VEVENT
BEGIN:VEVENT
UID:sabre-vobject-86aa4e8d-854d-4684-9efa-50f90201d199
DTSTAMP:20260420T074632Z
SUMMARY:Baby Basics
DESCRIPTION:
X-ALT-DESC:FMTTYPE=text/html:<!DOCTYPE HTML PUBLIC "-//W3C//DTD HTML 3.2//E
 N"><HTML></HTML>
CREATED;TZID=America/New_York:20171122T114027
URL;VALUE=URI:https://lee.armymwr.com/calendar/event
DTSTART;TZID=America/New_York:20171213T130000
DTEND;TZID=America/New_York:20171213T140000
SEQUENCE:3
END:VEVENT
BEGIN:VEVENT
UID:sabre-vobject-cd5a7754-c4f8-49c3-b3d4-4a8e4e8424ee
DTSTAMP:20260420T074632Z
SUMMARY:Baby Basics
DESCRIPTION:
X-ALT-DESC:FMTTYPE=text/html:<!DOCTYPE HTML PUBLIC "-//W3C//DTD HTML 3.2//E
 N"><HTML></HTML>
CREATED;TZID=America/New_York:20171122T114027
URL;VALUE=URI:https://lee.armymwr.com/calendar/event
DTSTART;TZID=America/New_York:20180214T130000
DTEND;TZID=America/New_York:20180214T140000
SEQUENCE:4
END:VEVENT
BEGIN:VEVENT
UID:sabre-vobject-571f1f7d-c692-4766-8942-77a8e1a1618d
DTSTAMP:20260420T074632Z
SUMMARY:Baby Basics
DESCRIPTION:
X-ALT-DESC:FMTTYPE=text/html:<!DOCTYPE HTML PUBLIC "-//W3C//DTD HTML 3.2//E
 N"><HTML></HTML>
CREATED;TZID=America/New_York:20171122T114027
URL;VALUE=URI:https://lee.armymwr.com/calendar/event
DTSTART;TZID=America/New_York:20180314T130000
DTEND;TZID=America/New_York:20180314T140000
SEQUENCE:5
END:VEVENT
BEGIN:VEVENT
UID:sabre-vobject-50f2bd6b-98b1-46aa-99db-1e7c97b16ce1
DTSTAMP:20260420T074632Z
SUMMARY:Baby Basics
DESCRIPTION:
X-ALT-DESC:FMTTYPE=text/html:<!DOCTYPE HTML PUBLIC "-//W3C//DTD HTML 3.2//E
 N"><HTML></HTML>
CREATED;TZID=America/New_York:20171122T114027
URL;VALUE=URI:https://lee.armymwr.com/calendar/event
DTSTART;TZID=America/New_York:20180411T130000
DTEND;TZID=America/New_York:20180411T140000
SEQUENCE:6
END:VEVENT
BEGIN:VEVENT
UID:sabre-vobject-c723e3ff-0534-4a1a-b46b-004c96a278db
DTSTAMP:20260420T074632Z
SUMMARY:Baby Basics
DESCRIPTION:
X-ALT-DESC:FMTTYPE=text/html:<!DOCTYPE HTML PUBLIC "-//W3C//DTD HTML 3.2//E
 N"><HTML></HTML>
CREATED;TZID=America/New_York:20171122T114027
URL;VALUE=URI:https://lee.armymwr.com/calendar/event
DTSTART;TZID=America/New_York:20180509T130000
DTEND;TZID=America/New_York:20180509T140000
SEQUENCE:7
END:VEVENT
BEGIN:VEVENT
UID:sabre-vobject-bdc31883-d191-4194-9b35-067073371a13
DTSTAMP:20260420T074632Z
SUMMARY:Baby Basics
DESCRIPTION:
X-ALT-DESC:FMTTYPE=text/html:<!DOCTYPE HTML PUBLIC "-//W3C//DTD HTML 3.2//E
 N"><HTML></HTML>
CREATED;TZID=America/New_York:20171122T114027
URL;VALUE=URI:https://lee.armymwr.com/calendar/event
DTSTART;TZID=America/New_York:20180613T130000
DTEND;TZID=America/New_York:20180613T140000
SEQUENCE:8
END:VEVENT
BEGIN:VEVENT
UID:sabre-vobject-36e59929-bd53-4253-a2e6-d1e60cb50bb4
DTSTAMP:20260420T074632Z
SUMMARY:Baby Basics
DESCRIPTION:
X-ALT-DESC:FMTTYPE=text/html:<!DOCTYPE HTML PUBLIC "-//W3C//DTD HTML 3.2//E
 N"><HTML></HTML>
CREATED;TZID=America/New_York:20171122T114027
URL;VALUE=URI:https://lee.armymwr.com/calendar/event
DTSTART;TZID=America/New_York:20180808T130000
DTEND;TZID=America/New_York:20180808T140000
SEQUENCE:9
END:VEVENT
BEGIN:VEVENT
UID:sabre-vobject-84d949e6-9b12-436e-8b37-b04e792b79f4
DTSTAMP:20260420T074632Z
SUMMARY:Baby Basics
DESCRIPTION:
X-ALT-DESC:FMTTYPE=text/html:<!DOCTYPE HTML PUBLIC "-//W3C//DTD HTML 3.2//E
 N"><HTML></HTML>
CREATED;TZID=America/New_York:20171122T114027
URL;VALUE=URI:https://lee.armymwr.com/calendar/event
DTSTART;TZID=America/New_York:20180912T130000
DTEND;TZID=America/New_York:20180912T140000
SEQUENCE:10
END:VEVENT
BEGIN:VEVENT
UID:sabre-vobject-0833cb41-df7f-4562-92e3-955699ad4de8
DTSTAMP:20260420T074632Z
SUMMARY:Baby Basics
DESCRIPTION:
X-ALT-DESC:FMTTYPE=text/html:<!DOCTYPE HTML PUBLIC "-//W3C//DTD HTML 3.2//E
 N"><HTML></HTML>
CREATED;TZID=America/New_York:20171122T114027
URL;VALUE=URI:https://lee.armymwr.com/calendar/event
DTSTART;TZID=America/New_York:20181010T130000
DTEND;TZID=America/New_York:20181010T140000
SEQUENCE:11
END:VEVENT
BEGIN:VEVENT
UID:sabre-vobject-635c6a6d-f0f3-445a-b994-f0bba4c6ad12
DTSTAMP:20260420T074632Z
SUMMARY:Baby Basics
DESCRIPTION:
X-ALT-DESC:FMTTYPE=text/html:<!DOCTYPE HTML PUBLIC "-//W3C//DTD HTML 3.2//E
 N"><HTML></HTML>
CREATED;TZID=America/New_York:20171122T114027
URL;VALUE=URI:https://lee.armymwr.com/calendar/event
DTSTART;TZID=America/New_York:20181114T130000
DTEND;TZID=America/New_York:20181114T140000
SEQUENCE:12
END:VEVENT
BEGIN:VEVENT
UID:sabre-vobject-5f7a2722-6837-4105-9267-77e46ebcf7c0
DTSTAMP:20260420T074632Z
SUMMARY:Baby Basics
DESCRIPTION:
X-ALT-DESC:FMTTYPE=text/html:<!DOCTYPE HTML PUBLIC "-//W3C//DTD HTML 3.2//E
 N"><HTML></HTML>
CREATED;TZID=America/New_York:20171122T114027
URL;VALUE=URI:https://lee.armymwr.com/calendar/event
DTSTART;TZID=America/New_York:20181212T130000
DTEND;TZID=America/New_York:20181212T140000
SEQUENCE:13
END:VEVENT
END:VCALENDAR
