BEGIN:VCALENDAR
VERSION:2.0
PRODID:-//Sabre//Sabre VObject 4.5.8//EN
CALSCALE:GREGORIAN
BEGIN:VEVENT
UID:sabre-vobject-dcdefcfa-0ded-41bb-be79-0a383089d865
DTSTAMP:20260425T025710Z
SUMMARY:Lee Playhouse Presents: All Shook Up
DESCRIPTION:
X-ALT-DESC:FMTTYPE=text/html:<!DOCTYPE HTML PUBLIC "-//W3C//DTD HTML 3.2//E
 N"><HTML></HTML>
CREATED;TZID=America/New_York:20171005T103100
URL;VALUE=URI:https://lee.armymwr.com/calendar/event
DTSTART;TZID=America/New_York:20180504T200000
DTEND;TZID=America/New_York:20180504T220000
SEQUENCE:0
END:VEVENT
BEGIN:VEVENT
UID:sabre-vobject-7b089e3d-b97c-48cc-a20a-3f11f208e948
DTSTAMP:20260425T025710Z
SUMMARY:Lee Playhouse Presents: All Shook Up
DESCRIPTION:
X-ALT-DESC:FMTTYPE=text/html:<!DOCTYPE HTML PUBLIC "-//W3C//DTD HTML 3.2//E
 N"><HTML></HTML>
CREATED;TZID=America/New_York:20171005T103100
URL;VALUE=URI:https://lee.armymwr.com/calendar/event
DTSTART;TZID=America/New_York:20180506T150000
DTEND;TZID=America/New_York:20180506T170000
SEQUENCE:1
END:VEVENT
BEGIN:VEVENT
UID:sabre-vobject-bfc89444-9e25-4d42-a937-db45849e9466
DTSTAMP:20260425T025710Z
SUMMARY:Lee Playhouse Presents: All Shook Up
DESCRIPTION:
X-ALT-DESC:FMTTYPE=text/html:<!DOCTYPE HTML PUBLIC "-//W3C//DTD HTML 3.2//E
 N"><HTML></HTML>
CREATED;TZID=America/New_York:20171005T103100
URL;VALUE=URI:https://lee.armymwr.com/calendar/event
DTSTART;TZID=America/New_York:20180505T200000
DTEND;TZID=America/New_York:20180505T220000
SEQUENCE:2
END:VEVENT
END:VCALENDAR
