BEGIN:VCALENDAR
VERSION:2.0
PRODID:-//Sabre//Sabre VObject 4.5.8//EN
CALSCALE:GREGORIAN
BEGIN:VEVENT
UID:sabre-vobject-64e4b47d-6c2b-4df4-b7dc-d8f7fcd89a1f
DTSTAMP:20260422T014923Z
SUMMARY:Stress Management
DESCRIPTION:
X-ALT-DESC:FMTTYPE=text/html:<!DOCTYPE HTML PUBLIC "-//W3C//DTD HTML 3.2//E
 N"><HTML></HTML>
CREATED;TZID=America/New_York:20171122T112341
URL;VALUE=URI:https://lee.armymwr.com/calendar/event
DTSTART;TZID=America/New_York:20171205T120000
DTEND;TZID=America/New_York:20171205T130000
SEQUENCE:0
END:VEVENT
BEGIN:VEVENT
UID:sabre-vobject-2b8a9e32-df2c-4430-86ec-27f591bbf82e
DTSTAMP:20260422T014923Z
SUMMARY:Stress Management
DESCRIPTION:
X-ALT-DESC:FMTTYPE=text/html:<!DOCTYPE HTML PUBLIC "-//W3C//DTD HTML 3.2//E
 N"><HTML></HTML>
CREATED;TZID=America/New_York:20171122T112341
URL;VALUE=URI:https://lee.armymwr.com/calendar/event
DTSTART;TZID=America/New_York:20180109T120000
DTEND;TZID=America/New_York:20180109T130000
SEQUENCE:1
END:VEVENT
BEGIN:VEVENT
UID:sabre-vobject-8a5537a0-5188-4e9d-b9c6-07c59bbeb15d
DTSTAMP:20260422T014923Z
SUMMARY:Stress Management
DESCRIPTION:
X-ALT-DESC:FMTTYPE=text/html:<!DOCTYPE HTML PUBLIC "-//W3C//DTD HTML 3.2//E
 N"><HTML></HTML>
CREATED;TZID=America/New_York:20171122T112341
URL;VALUE=URI:https://lee.armymwr.com/calendar/event
DTSTART;TZID=America/New_York:20180410T120000
DTEND;TZID=America/New_York:20180410T130000
SEQUENCE:2
END:VEVENT
BEGIN:VEVENT
UID:sabre-vobject-4e94068e-06be-4cec-8b83-04557b3b7642
DTSTAMP:20260422T014923Z
SUMMARY:Stress Management
DESCRIPTION:
X-ALT-DESC:FMTTYPE=text/html:<!DOCTYPE HTML PUBLIC "-//W3C//DTD HTML 3.2//E
 N"><HTML></HTML>
CREATED;TZID=America/New_York:20171122T112341
URL;VALUE=URI:https://lee.armymwr.com/calendar/event
DTSTART;TZID=America/New_York:20180710T120000
DTEND;TZID=America/New_York:20180710T130000
SEQUENCE:3
END:VEVENT
BEGIN:VEVENT
UID:sabre-vobject-ae09df28-f5fe-4f81-8227-339d42f174c6
DTSTAMP:20260422T014923Z
SUMMARY:Stress Management
DESCRIPTION:
X-ALT-DESC:FMTTYPE=text/html:<!DOCTYPE HTML PUBLIC "-//W3C//DTD HTML 3.2//E
 N"><HTML></HTML>
CREATED;TZID=America/New_York:20171122T112341
URL;VALUE=URI:https://lee.armymwr.com/calendar/event
DTSTART;TZID=America/New_York:20181009T120000
DTEND;TZID=America/New_York:20181009T130000
SEQUENCE:4
END:VEVENT
END:VCALENDAR
