BEGIN:VCALENDAR
VERSION:2.0
PRODID:-//Sabre//Sabre VObject 4.5.8//EN
CALSCALE:GREGORIAN
BEGIN:VEVENT
UID:sabre-vobject-116831b8-d7f4-4df4-902b-891b35c651b5
DTSTAMP:20260425T212143Z
SUMMARY:Child Abuse Prevention & Awareness Events - Community Bootcamp
DESCRIPTION:
X-ALT-DESC:FMTTYPE=text/html:<!DOCTYPE HTML PUBLIC "-//W3C//DTD HTML 3.2//E
 N"><HTML></HTML>
CREATED;TZID=America/New_York:20180227T091733
URL;VALUE=URI:https://lee.armymwr.com/calendar/event
DTSTART;TZID=America/New_York:20180419T140000
DTEND;TZID=America/New_York:20180419T150000
SEQUENCE:0
END:VEVENT
END:VCALENDAR
