BEGIN:VCALENDAR
VERSION:2.0
PRODID:-//Sabre//Sabre VObject 4.5.8//EN
CALSCALE:GREGORIAN
BEGIN:VEVENT
UID:sabre-vobject-5502b328-9f4a-4358-a7a5-29daf92d5bb8
DTSTAMP:20260426T044216Z
SUMMARY:National Library Week - Library Workers Day
DESCRIPTION:
X-ALT-DESC:FMTTYPE=text/html:<!DOCTYPE HTML PUBLIC "-//W3C//DTD HTML 3.2//E
 N"><HTML></HTML>
CREATED;TZID=America/New_York:20180406T153200
URL;VALUE=URI:https://lee.armymwr.com/calendar/event
DTSTART;TZID=America/New_York:20180410T080000
DTEND;TZID=America/New_York:20180410T190000
SEQUENCE:0
END:VEVENT
END:VCALENDAR
