BEGIN:VCALENDAR
VERSION:2.0
PRODID:-//Sabre//Sabre VObject 4.5.8//EN
CALSCALE:GREGORIAN
BEGIN:VEVENT
UID:sabre-vobject-2d18fd89-e5c4-47b0-8f40-b6963b26e02d
DTSTAMP:20260426T044217Z
SUMMARY:National Library Week - National Bookmobile Day
DESCRIPTION:
X-ALT-DESC:FMTTYPE=text/html:<!DOCTYPE HTML PUBLIC "-//W3C//DTD HTML 3.2//E
 N"><HTML></HTML>
CREATED;TZID=America/New_York:20180406T152905
URL;VALUE=URI:https://lee.armymwr.com/calendar/event
DTSTART;TZID=America/New_York:20180412T080000
DTEND;TZID=America/New_York:20180412T170000
SEQUENCE:0
END:VEVENT
END:VCALENDAR
