BEGIN:VCALENDAR
VERSION:2.0
PRODID:-//Sabre//Sabre VObject 4.5.8//EN
CALSCALE:GREGORIAN
BEGIN:VEVENT
UID:sabre-vobject-90f5c4e6-0cfa-4a3a-9520-f4f3eaf17764
DTSTAMP:20260425T103258Z
SUMMARY:Times for Commitment to Parent Co-Op Information Meeting
DESCRIPTION:
X-ALT-DESC:FMTTYPE=text/html:<!DOCTYPE HTML PUBLIC "-//W3C//DTD HTML 3.2//E
 N"><HTML></HTML>
CREATED;TZID=America/New_York:20180417T163347
URL;VALUE=URI:https://lee.armymwr.com/calendar/event
DTSTART;TZID=America/New_York:20180426T120000
DTEND;TZID=America/New_York:20180426T130000
SEQUENCE:0
END:VEVENT
BEGIN:VEVENT
UID:sabre-vobject-86e947a5-8fae-48b5-a36e-f920e20f83f3
DTSTAMP:20260425T103258Z
SUMMARY:Times for Commitment to Parent Co-Op Information Meeting
DESCRIPTION:
X-ALT-DESC:FMTTYPE=text/html:<!DOCTYPE HTML PUBLIC "-//W3C//DTD HTML 3.2//E
 N"><HTML></HTML>
CREATED;TZID=America/New_York:20180417T163347
URL;VALUE=URI:https://lee.armymwr.com/calendar/event
DTSTART;TZID=America/New_York:20180426T173000
DTEND;TZID=America/New_York:20180426T183000
SEQUENCE:1
END:VEVENT
END:VCALENDAR
