BEGIN:VCALENDAR
VERSION:2.0
PRODID:-//Sabre//Sabre VObject 4.5.8//EN
CALSCALE:GREGORIAN
BEGIN:VEVENT
UID:sabre-vobject-b70afd16-3af2-4a96-b8fd-bb4119409798
DTSTAMP:20260425T103256Z
SUMMARY:Match Play & Four Ball
DESCRIPTION:
X-ALT-DESC:FMTTYPE=text/html:<!DOCTYPE HTML PUBLIC "-//W3C//DTD HTML 3.2//E
 N"><HTML></HTML>
CREATED;TZID=America/New_York:20180419T162333
URL;VALUE=URI:https://lee.armymwr.com/calendar/event
DTSTART;TZID=America/New_York:20180501T073000
DTEND;TZID=America/New_York:20180501T083000
SEQUENCE:0
END:VEVENT
END:VCALENDAR
