BEGIN:VCALENDAR
VERSION:2.0
PRODID:-//Sabre//Sabre VObject 4.5.8//EN
CALSCALE:GREGORIAN
BEGIN:VEVENT
UID:sabre-vobject-41bfffd5-434a-4d1b-8a80-4b728243d585
DTSTAMP:20260424T021057Z
SUMMARY:Jive Brother Band at Live at Five
DESCRIPTION:
X-ALT-DESC:FMTTYPE=text/html:<!DOCTYPE HTML PUBLIC "-//W3C//DTD HTML 3.2//E
 N"><HTML></HTML>
CREATED;TZID=America/New_York:20180522T111554
URL;VALUE=URI:https://lee.armymwr.com/calendar/event
DTSTART;TZID=America/New_York:20180615T170000
DTEND;TZID=America/New_York:20180615T203000
SEQUENCE:0
END:VEVENT
BEGIN:VEVENT
UID:sabre-vobject-f0ce4236-002c-40ce-b3a0-7919cd0375ae
DTSTAMP:20260424T021057Z
SUMMARY:Jive Brother Band at Live at Five
DESCRIPTION:
X-ALT-DESC:FMTTYPE=text/html:<!DOCTYPE HTML PUBLIC "-//W3C//DTD HTML 3.2//E
 N"><HTML></HTML>
CREATED;TZID=America/New_York:20180522T111554
URL;VALUE=URI:https://lee.armymwr.com/calendar/event
DTSTART;TZID=America/New_York:20180720T170000
DTEND;TZID=America/New_York:20180720T203000
SEQUENCE:1
END:VEVENT
END:VCALENDAR
