BEGIN:VCALENDAR
VERSION:2.0
PRODID:-//Sabre//Sabre VObject 4.5.8//EN
CALSCALE:GREGORIAN
BEGIN:VEVENT
UID:sabre-vobject-d3a3150e-4dc6-4eeb-b126-708e720713d2
DTSTAMP:20260424T192941Z
SUMMARY:The Smooth Sound of Klaxton Brown at Live at Five
DESCRIPTION:
X-ALT-DESC:FMTTYPE=text/html:<!DOCTYPE HTML PUBLIC "-//W3C//DTD HTML 3.2//E
 N"><HTML></HTML>
CREATED;TZID=America/New_York:20180601T145605
URL;VALUE=URI:https://lee.armymwr.com/calendar/event
DTSTART;TZID=America/New_York:20180622T170000
DTEND;TZID=America/New_York:20180622T203000
SEQUENCE:0
END:VEVENT
END:VCALENDAR
