BEGIN:VCALENDAR
VERSION:2.0
PRODID:-//Sabre//Sabre VObject 4.5.8//EN
CALSCALE:GREGORIAN
BEGIN:VEVENT
UID:sabre-vobject-300ee529-461d-4ef5-ac02-3cbcf59a0741
DTSTAMP:20260425T022602Z
SUMMARY:Friday Live at Five
DESCRIPTION:
X-ALT-DESC:FMTTYPE=text/html:<!DOCTYPE HTML PUBLIC "-//W3C//DTD HTML 3.2//E
 N"><HTML></HTML>
CREATED;TZID=America/New_York:20180604T130911
URL;VALUE=URI:https://lee.armymwr.com/calendar/event
DTSTART;TZID=America/New_York:20180713T170000
DTEND;TZID=America/New_York:20180713T203000
SEQUENCE:0
END:VEVENT
END:VCALENDAR
