BEGIN:VCALENDAR
VERSION:2.0
PRODID:-//Sabre//Sabre VObject 4.5.8//EN
CALSCALE:GREGORIAN
BEGIN:VEVENT
UID:sabre-vobject-578e1155-f1b4-4772-9357-2dd97f834201
DTSTAMP:20260421T151844Z
SUMMARY:Godspell
DESCRIPTION:
X-ALT-DESC:FMTTYPE=text/html:<!DOCTYPE HTML PUBLIC "-//W3C//DTD HTML 3.2//E
 N"><HTML></HTML>
CREATED;TZID=America/New_York:20180607T163119
URL;VALUE=URI:https://lee.armymwr.com/calendar/event
DTSTART;TZID=America/New_York:20180907T200000
DTEND;TZID=America/New_York:20180907T230000
SEQUENCE:0
END:VEVENT
BEGIN:VEVENT
UID:sabre-vobject-da5b3c3c-f576-491d-bed8-34f1ec71cee6
DTSTAMP:20260421T151844Z
SUMMARY:Godspell
DESCRIPTION:
X-ALT-DESC:FMTTYPE=text/html:<!DOCTYPE HTML PUBLIC "-//W3C//DTD HTML 3.2//E
 N"><HTML></HTML>
CREATED;TZID=America/New_York:20180607T163119
URL;VALUE=URI:https://lee.armymwr.com/calendar/event
DTSTART;TZID=America/New_York:20180908T200000
DTEND;TZID=America/New_York:20180908T230000
SEQUENCE:1
END:VEVENT
BEGIN:VEVENT
UID:sabre-vobject-a016e9d8-6a77-4567-b62d-74a2a61c5fde
DTSTAMP:20260421T151844Z
SUMMARY:Godspell
DESCRIPTION:
X-ALT-DESC:FMTTYPE=text/html:<!DOCTYPE HTML PUBLIC "-//W3C//DTD HTML 3.2//E
 N"><HTML></HTML>
CREATED;TZID=America/New_York:20180607T163119
URL;VALUE=URI:https://lee.armymwr.com/calendar/event
DTSTART;TZID=America/New_York:20180909T150000
DTEND;TZID=America/New_York:20180909T180000
SEQUENCE:2
END:VEVENT
BEGIN:VEVENT
UID:sabre-vobject-122bd824-5775-4225-a69c-f2e69a2b4f32
DTSTAMP:20260421T151844Z
SUMMARY:Godspell
DESCRIPTION:
X-ALT-DESC:FMTTYPE=text/html:<!DOCTYPE HTML PUBLIC "-//W3C//DTD HTML 3.2//E
 N"><HTML></HTML>
CREATED;TZID=America/New_York:20180607T163119
URL;VALUE=URI:https://lee.armymwr.com/calendar/event
DTSTART;TZID=America/New_York:20180914T200000
DTEND;TZID=America/New_York:20180914T230000
SEQUENCE:3
END:VEVENT
BEGIN:VEVENT
UID:sabre-vobject-5acf6427-3a16-45ec-ac9c-9778ba0bafe8
DTSTAMP:20260421T151844Z
SUMMARY:Godspell
DESCRIPTION:
X-ALT-DESC:FMTTYPE=text/html:<!DOCTYPE HTML PUBLIC "-//W3C//DTD HTML 3.2//E
 N"><HTML></HTML>
CREATED;TZID=America/New_York:20180607T163119
URL;VALUE=URI:https://lee.armymwr.com/calendar/event
DTSTART;TZID=America/New_York:20180915T200000
DTEND;TZID=America/New_York:20180915T230000
SEQUENCE:4
END:VEVENT
BEGIN:VEVENT
UID:sabre-vobject-8385a3f4-adfa-4b11-958a-3d352ba2528e
DTSTAMP:20260421T151844Z
SUMMARY:Godspell
DESCRIPTION:
X-ALT-DESC:FMTTYPE=text/html:<!DOCTYPE HTML PUBLIC "-//W3C//DTD HTML 3.2//E
 N"><HTML></HTML>
CREATED;TZID=America/New_York:20180607T163119
URL;VALUE=URI:https://lee.armymwr.com/calendar/event
DTSTART;TZID=America/New_York:20180916T150000
DTEND;TZID=America/New_York:20180916T173000
SEQUENCE:5
END:VEVENT
BEGIN:VEVENT
UID:sabre-vobject-03ec371c-d257-4e79-b52b-5c82dbe3f5eb
DTSTAMP:20260421T151844Z
SUMMARY:Godspell
DESCRIPTION:
X-ALT-DESC:FMTTYPE=text/html:<!DOCTYPE HTML PUBLIC "-//W3C//DTD HTML 3.2//E
 N"><HTML></HTML>
CREATED;TZID=America/New_York:20180607T163119
URL;VALUE=URI:https://lee.armymwr.com/calendar/event
DTSTART;TZID=America/New_York:20180921T200000
DTEND;TZID=America/New_York:20180921T230000
SEQUENCE:6
END:VEVENT
BEGIN:VEVENT
UID:sabre-vobject-d5b58091-b8ac-473f-90b4-2e5d539b5f5f
DTSTAMP:20260421T151844Z
SUMMARY:Godspell
DESCRIPTION:
X-ALT-DESC:FMTTYPE=text/html:<!DOCTYPE HTML PUBLIC "-//W3C//DTD HTML 3.2//E
 N"><HTML></HTML>
CREATED;TZID=America/New_York:20180607T163119
URL;VALUE=URI:https://lee.armymwr.com/calendar/event
DTSTART;TZID=America/New_York:20180922T200000
DTEND;TZID=America/New_York:20180922T230000
SEQUENCE:7
END:VEVENT
BEGIN:VEVENT
UID:sabre-vobject-86397b5c-a716-4e45-8f38-0ee812f9b354
DTSTAMP:20260421T151844Z
SUMMARY:Godspell
DESCRIPTION:
X-ALT-DESC:FMTTYPE=text/html:<!DOCTYPE HTML PUBLIC "-//W3C//DTD HTML 3.2//E
 N"><HTML></HTML>
CREATED;TZID=America/New_York:20180607T163119
URL;VALUE=URI:https://lee.armymwr.com/calendar/event
DTSTART;TZID=America/New_York:20180923T150000
DTEND;TZID=America/New_York:20180923T173000
SEQUENCE:8
END:VEVENT
END:VCALENDAR
