BEGIN:VCALENDAR
VERSION:2.0
PRODID:-//Sabre//Sabre VObject 4.5.8//EN
CALSCALE:GREGORIAN
BEGIN:VEVENT
UID:sabre-vobject-7cfa74fd-3718-4b32-97d7-18485c785d3b
DTSTAMP:20260421T085607Z
SUMMARY:Sound of Music
DESCRIPTION:
X-ALT-DESC:FMTTYPE=text/html:<!DOCTYPE HTML PUBLIC "-//W3C//DTD HTML 3.2//E
 N"><HTML></HTML>
CREATED;TZID=America/New_York:20181016T165331
URL;VALUE=URI:https://lee.armymwr.com/calendar/event
DTSTART;TZID=America/New_York:20181102T200000
DTEND;TZID=America/New_York:20181102T223000
SEQUENCE:0
END:VEVENT
BEGIN:VEVENT
UID:sabre-vobject-f240c7b7-7b3f-44d5-8c62-b817347c251a
DTSTAMP:20260421T085607Z
SUMMARY:Sound of Music
DESCRIPTION:
X-ALT-DESC:FMTTYPE=text/html:<!DOCTYPE HTML PUBLIC "-//W3C//DTD HTML 3.2//E
 N"><HTML></HTML>
CREATED;TZID=America/New_York:20181016T165331
URL;VALUE=URI:https://lee.armymwr.com/calendar/event
DTSTART;TZID=America/New_York:20181103T200000
DTEND;TZID=America/New_York:20181103T223000
SEQUENCE:1
END:VEVENT
BEGIN:VEVENT
UID:sabre-vobject-9a92cc09-f81b-40af-9fb3-a4f9fb88ecc2
DTSTAMP:20260421T085607Z
SUMMARY:Sound of Music
DESCRIPTION:
X-ALT-DESC:FMTTYPE=text/html:<!DOCTYPE HTML PUBLIC "-//W3C//DTD HTML 3.2//E
 N"><HTML></HTML>
CREATED;TZID=America/New_York:20181016T165331
URL;VALUE=URI:https://lee.armymwr.com/calendar/event
DTSTART;TZID=America/New_York:20181104T150000
DTEND;TZID=America/New_York:20181104T173000
SEQUENCE:2
END:VEVENT
BEGIN:VEVENT
UID:sabre-vobject-71b17e66-8625-4f88-8356-022820433dbf
DTSTAMP:20260421T085607Z
SUMMARY:Sound of Music
DESCRIPTION:
X-ALT-DESC:FMTTYPE=text/html:<!DOCTYPE HTML PUBLIC "-//W3C//DTD HTML 3.2//E
 N"><HTML></HTML>
CREATED;TZID=America/New_York:20181016T165331
URL;VALUE=URI:https://lee.armymwr.com/calendar/event
DTSTART;TZID=America/New_York:20181109T200000
DTEND;TZID=America/New_York:20181109T223000
SEQUENCE:3
END:VEVENT
BEGIN:VEVENT
UID:sabre-vobject-6460f408-aaf1-4b81-83e4-0169daf3b3aa
DTSTAMP:20260421T085607Z
SUMMARY:Sound of Music
DESCRIPTION:
X-ALT-DESC:FMTTYPE=text/html:<!DOCTYPE HTML PUBLIC "-//W3C//DTD HTML 3.2//E
 N"><HTML></HTML>
CREATED;TZID=America/New_York:20181016T165331
URL;VALUE=URI:https://lee.armymwr.com/calendar/event
DTSTART;TZID=America/New_York:20181110T200000
DTEND;TZID=America/New_York:20181110T223000
SEQUENCE:4
END:VEVENT
BEGIN:VEVENT
UID:sabre-vobject-7b73b5d9-a39e-4a54-bcbe-c0eac901746c
DTSTAMP:20260421T085607Z
SUMMARY:Sound of Music
DESCRIPTION:
X-ALT-DESC:FMTTYPE=text/html:<!DOCTYPE HTML PUBLIC "-//W3C//DTD HTML 3.2//E
 N"><HTML></HTML>
CREATED;TZID=America/New_York:20181016T165331
URL;VALUE=URI:https://lee.armymwr.com/calendar/event
DTSTART;TZID=America/New_York:20181111T150000
DTEND;TZID=America/New_York:20181111T173000
SEQUENCE:5
END:VEVENT
BEGIN:VEVENT
UID:sabre-vobject-a1684815-bd32-4fbb-9997-b0e62a5d53bb
DTSTAMP:20260421T085607Z
SUMMARY:Sound of Music
DESCRIPTION:
X-ALT-DESC:FMTTYPE=text/html:<!DOCTYPE HTML PUBLIC "-//W3C//DTD HTML 3.2//E
 N"><HTML></HTML>
CREATED;TZID=America/New_York:20181016T165331
URL;VALUE=URI:https://lee.armymwr.com/calendar/event
DTSTART;TZID=America/New_York:20181116T200000
DTEND;TZID=America/New_York:20181116T223000
SEQUENCE:6
END:VEVENT
BEGIN:VEVENT
UID:sabre-vobject-df51aebd-d3b9-4fd3-8293-e753b5d7ed96
DTSTAMP:20260421T085607Z
SUMMARY:Sound of Music
DESCRIPTION:
X-ALT-DESC:FMTTYPE=text/html:<!DOCTYPE HTML PUBLIC "-//W3C//DTD HTML 3.2//E
 N"><HTML></HTML>
CREATED;TZID=America/New_York:20181016T165331
URL;VALUE=URI:https://lee.armymwr.com/calendar/event
DTSTART;TZID=America/New_York:20181117T200000
DTEND;TZID=America/New_York:20181117T223000
SEQUENCE:7
END:VEVENT
BEGIN:VEVENT
UID:sabre-vobject-7b49d1c8-83cd-49c8-a739-9ff6f585bbe2
DTSTAMP:20260421T085607Z
SUMMARY:Sound of Music
DESCRIPTION:
X-ALT-DESC:FMTTYPE=text/html:<!DOCTYPE HTML PUBLIC "-//W3C//DTD HTML 3.2//E
 N"><HTML></HTML>
CREATED;TZID=America/New_York:20181016T165331
URL;VALUE=URI:https://lee.armymwr.com/calendar/event
DTSTART;TZID=America/New_York:20181118T150000
DTEND;TZID=America/New_York:20181118T173000
SEQUENCE:8
END:VEVENT
BEGIN:VEVENT
UID:sabre-vobject-4ad35e89-b2fe-41a6-be18-ac5a2d6bbb47
DTSTAMP:20260421T085607Z
SUMMARY:Sound of Music
DESCRIPTION:
X-ALT-DESC:FMTTYPE=text/html:<!DOCTYPE HTML PUBLIC "-//W3C//DTD HTML 3.2//E
 N"><HTML></HTML>
CREATED;TZID=America/New_York:20181016T165331
URL;VALUE=URI:https://lee.armymwr.com/calendar/event
DTSTART;TZID=America/New_York:20181123T200000
DTEND;TZID=America/New_York:20181123T223000
SEQUENCE:9
END:VEVENT
BEGIN:VEVENT
UID:sabre-vobject-1de915bc-97f6-4460-b45a-1d0350f6586a
DTSTAMP:20260421T085607Z
SUMMARY:Sound of Music
DESCRIPTION:
X-ALT-DESC:FMTTYPE=text/html:<!DOCTYPE HTML PUBLIC "-//W3C//DTD HTML 3.2//E
 N"><HTML></HTML>
CREATED;TZID=America/New_York:20181016T165331
URL;VALUE=URI:https://lee.armymwr.com/calendar/event
DTSTART;TZID=America/New_York:20181124T200000
DTEND;TZID=America/New_York:20181124T223000
SEQUENCE:10
END:VEVENT
BEGIN:VEVENT
UID:sabre-vobject-eb5cd687-8ba3-4ff6-8d55-c07918443067
DTSTAMP:20260421T085607Z
SUMMARY:Sound of Music
DESCRIPTION:
X-ALT-DESC:FMTTYPE=text/html:<!DOCTYPE HTML PUBLIC "-//W3C//DTD HTML 3.2//E
 N"><HTML></HTML>
CREATED;TZID=America/New_York:20181016T165331
URL;VALUE=URI:https://lee.armymwr.com/calendar/event
DTSTART;TZID=America/New_York:20181125T150000
DTEND;TZID=America/New_York:20181125T173000
SEQUENCE:11
END:VEVENT
END:VCALENDAR
