BEGIN:VCALENDAR
VERSION:2.0
PRODID:-//Sabre//Sabre VObject 4.5.8//EN
CALSCALE:GREGORIAN
BEGIN:VEVENT
UID:sabre-vobject-5245dd67-1c66-4558-8e5d-f7cbf04de3ce
DTSTAMP:20260423T034722Z
SUMMARY:Preschool Story Hour - Windy Days Ahead
DESCRIPTION:Stories and Fun!\n
X-ALT-DESC:FMTTYPE=text/html:<!DOCTYPE HTML PUBLIC "-//W3C//DTD HTML 3.2//E
 N"><HTML><p>Stories and Fun!</p>\n</HTML>
CREATED;TZID=America/New_York:20180904T194721
URL;VALUE=URI:https://lee.armymwr.com/calendar/event
DTSTART;TZID=America/New_York:20180919T100000
DTEND;TZID=America/New_York:20180919T110000
SEQUENCE:0
END:VEVENT
END:VCALENDAR
