BEGIN:VCALENDAR
VERSION:2.0
PRODID:-//Sabre//Sabre VObject 4.5.8//EN
CALSCALE:GREGORIAN
BEGIN:VEVENT
UID:sabre-vobject-db798e09-169c-4952-937c-b42a452b710f
DTSTAMP:20260421T122420Z
SUMMARY:Preschool Story Hour - A Very Hungry Caterpillar 
DESCRIPTION:Stories and Fun!\n
X-ALT-DESC:FMTTYPE=text/html:<!DOCTYPE HTML PUBLIC "-//W3C//DTD HTML 3.2//E
 N"><HTML><p>Stories and Fun!</p>\n</HTML>
CREATED;TZID=America/New_York:20180904T174426
URL;VALUE=URI:https://lee.armymwr.com/calendar/event
DTSTART;TZID=America/New_York:20180926T100000
DTEND;TZID=America/New_York:20180926T110000
SEQUENCE:0
END:VEVENT
END:VCALENDAR
