BEGIN:VCALENDAR
VERSION:2.0
PRODID:-//Sabre//Sabre VObject 4.5.8//EN
CALSCALE:GREGORIAN
BEGIN:VEVENT
UID:sabre-vobject-a971578e-fa72-4825-af2f-5be9969623cf
DTSTAMP:20260421T074004Z
SUMMARY:Preschool Story Hour - It's Harvest Time!
DESCRIPTION:Stories and Fun!\n
X-ALT-DESC:FMTTYPE=text/html:<!DOCTYPE HTML PUBLIC "-//W3C//DTD HTML 3.2//E
 N"><HTML><p>Stories and Fun!</p>\n</HTML>
CREATED;TZID=America/New_York:20180927T141954
URL;VALUE=URI:https://lee.armymwr.com/calendar/event
DTSTART;TZID=America/New_York:20181017T103000
DTEND;TZID=America/New_York:20181017T113000
SEQUENCE:0
END:VEVENT
END:VCALENDAR
