BEGIN:VCALENDAR
VERSION:2.0
PRODID:-//Sabre//Sabre VObject 4.5.8//EN
CALSCALE:GREGORIAN
BEGIN:VEVENT
UID:sabre-vobject-10d373ff-5892-4fbc-96a8-33e0475f8307
DTSTAMP:20260420T231518Z
SUMMARY:Stop Stress & Stroll
DESCRIPTION:
X-ALT-DESC:FMTTYPE=text/html:<!DOCTYPE HTML PUBLIC "-//W3C//DTD HTML 3.2//E
 N"><HTML></HTML>
CREATED;TZID=America/New_York:20181023T104434
URL;VALUE=URI:https://lee.armymwr.com/calendar/event
DTSTART;TZID=America/New_York:20181108T173000
DTEND;TZID=America/New_York:20181108T190000
SEQUENCE:0
END:VEVENT
END:VCALENDAR
