BEGIN:VCALENDAR
VERSION:2.0
PRODID:-//Sabre//Sabre VObject 4.5.8//EN
CALSCALE:GREGORIAN
BEGIN:VEVENT
UID:sabre-vobject-8f9a1543-d8e0-4fa9-b8a8-16934328ad81
DTSTAMP:20260420T231517Z
SUMMARY:MakerSpace: Let's Go\, Legos!
DESCRIPTION:
X-ALT-DESC:FMTTYPE=text/html:<!DOCTYPE HTML PUBLIC "-//W3C//DTD HTML 3.2//E
 N"><HTML></HTML>
CREATED;TZID=America/New_York:20181023T132826
URL;VALUE=URI:https://lee.armymwr.com/calendar/event
DTSTART;TZID=America/New_York:20181110T120000
DTEND;TZID=America/New_York:20181110T160000
SEQUENCE:0
END:VEVENT
END:VCALENDAR
