BEGIN:VCALENDAR
VERSION:2.0
PRODID:-//Sabre//Sabre VObject 4.5.8//EN
CALSCALE:GREGORIAN
BEGIN:VEVENT
UID:sabre-vobject-3409e905-d15a-4e22-9673-e07c89a92ca9
DTSTAMP:20260420T165526Z
SUMMARY:Thanksgiving Dinner at the Lee Club - SOLD OUT
DESCRIPTION:
X-ALT-DESC:FMTTYPE=text/html:<!DOCTYPE HTML PUBLIC "-//W3C//DTD HTML 3.2//E
 N"><HTML></HTML>
CREATED;TZID=America/New_York:20181115T071835
URL;VALUE=URI:https://lee.armymwr.com/calendar/event
DTSTART;TZID=America/New_York:20181122T130000
DTEND;TZID=America/New_York:20181122T140000
SEQUENCE:0
END:VEVENT
END:VCALENDAR
