BEGIN:VCALENDAR
VERSION:2.0
PRODID:-//Sabre//Sabre VObject 4.5.8//EN
CALSCALE:GREGORIAN
BEGIN:VEVENT
UID:sabre-vobject-a294891c-a54d-434d-aba5-bacc92b68799
DTSTAMP:20260424T021059Z
SUMMARY:Right Arm Night - Nov 21 - Cancelled
DESCRIPTION:
X-ALT-DESC:FMTTYPE=text/html:<!DOCTYPE HTML PUBLIC "-//W3C//DTD HTML 3.2//E
 N"><HTML></HTML>
CREATED;TZID=America/New_York:20181115T070546
URL;VALUE=URI:https://lee.armymwr.com/calendar/event
DTSTART;TZID=America/New_York:20180718T170000
DTEND;TZID=America/New_York:20180718T180000
SEQUENCE:0
END:VEVENT
END:VCALENDAR
