BEGIN:VCALENDAR
VERSION:2.0
PRODID:-//Sabre//Sabre VObject 4.5.8//EN
CALSCALE:GREGORIAN
BEGIN:VEVENT
UID:sabre-vobject-d9012a13-0e4d-49da-a2f7-6fffe3d5b2df
DTSTAMP:20260420T110557Z
SUMMARY:Family-Friendly Superhero Run 
DESCRIPTION:
X-ALT-DESC:FMTTYPE=text/html:<!DOCTYPE HTML PUBLIC "-//W3C//DTD HTML 3.2//E
 N"><HTML></HTML>
CREATED;TZID=America/New_York:20220819T095936
URL;VALUE=URI:https://lee.armymwr.com/calendar/event
DTSTART;TZID=America/New_York:20220924T080000
DTEND;TZID=America/New_York:20220924T120000
SEQUENCE:0
END:VEVENT
END:VCALENDAR
