BEGIN:VCALENDAR
VERSION:2.0
PRODID:-//Sabre//Sabre VObject 4.5.8//EN
CALSCALE:GREGORIAN
BEGIN:VEVENT
UID:sabre-vobject-e852be06-efe1-4c0a-b45f-75745218116f
DTSTAMP:20260420T202338Z
SUMMARY:Watch the Big Game and "Bowl!"
DESCRIPTION:Watch Football&#39\;s Finale With Your Friends\n
X-ALT-DESC:FMTTYPE=text/html:<!DOCTYPE HTML PUBLIC "-//W3C//DTD HTML 3.2//E
 N"><HTML><p>Watch Football&#39\;s Finale With Your Friends</p>\n</HTML>
CREATED;TZID=America/New_York:20240117T130124
URL;VALUE=URI:https://lee.armymwr.com/calendar/event
DTSTART;TZID=America/New_York:20240211T180000
DTEND;TZID=America/New_York:20240211T220000
SEQUENCE:0
END:VEVENT
END:VCALENDAR
